BEGIN:VCALENDAR
VERSION:2.0
PRODID:-//Tukios.com/
BEGIN:VEVENT
UID:c8317d2f-7707-4ccd-989a-e21e21145e9e@www.simpletraditions.com
DTSTAMP:20260420T183319Z
DTSTART:20260626T050000Z
DTEND:20260626T060000Z
SUMMARY:Funeral Service
DESCRIPTION:
URL:https://www.simpletraditions.com/obituaries/larry-teppo
LOCATION:Bethlehem Lutheran Church Twin Cities 4100 Lyndale Avenue South  
	Minneapolis MN 55409
GEO:44.9284222;-93.2889361
END:VEVENT
END:VCALENDAR