BEGIN:VCALENDAR
VERSION:2.0
PRODID:-//Tukios.com/
BEGIN:VEVENT
UID:cc6e7ab4-aafb-49d1-bc32-d332034cd584@www.simpletraditions.com
DTSTAMP:20260420T223021Z
DTSTART:20260430T160000Z
DTEND:20260430T170000Z
SUMMARY:Mass
DESCRIPTION:
URL:https://www.simpletraditions.com/obituaries/jean-walstad
LOCATION: 488 Humboldt Avenue  Saint Paul MN 55107
GEO:44.9311656;-93.0848204
END:VEVENT
END:VCALENDAR